BEGIN:VCALENDAR
VERSION:2.0
PRODID:-//Ocean Doctor - ECPv6.15.18//NONSGML v1.0//EN
CALSCALE:GREGORIAN
METHOD:PUBLISH
X-WR-CALNAME:Ocean Doctor
X-ORIGINAL-URL:https://oceandoctor.org
X-WR-CALDESC:Events for Ocean Doctor
REFRESH-INTERVAL;VALUE=DURATION:PT1H
X-Robots-Tag:noindex
X-PUBLISHED-TTL:PT1H
BEGIN:VTIMEZONE
TZID:America/New_York
BEGIN:DAYLIGHT
TZOFFSETFROM:-0500
TZOFFSETTO:-0400
TZNAME:EDT
DTSTART:20090308T070000
END:DAYLIGHT
BEGIN:STANDARD
TZOFFSETFROM:-0400
TZOFFSETTO:-0500
TZNAME:EST
DTSTART:20091101T060000
END:STANDARD
BEGIN:DAYLIGHT
TZOFFSETFROM:-0500
TZOFFSETTO:-0400
TZNAME:EDT
DTSTART:20100314T070000
END:DAYLIGHT
BEGIN:STANDARD
TZOFFSETFROM:-0400
TZOFFSETTO:-0500
TZNAME:EST
DTSTART:20101107T060000
END:STANDARD
BEGIN:DAYLIGHT
TZOFFSETFROM:-0500
TZOFFSETTO:-0400
TZNAME:EDT
DTSTART:20110313T070000
END:DAYLIGHT
BEGIN:STANDARD
TZOFFSETFROM:-0400
TZOFFSETTO:-0500
TZNAME:EST
DTSTART:20111106T060000
END:STANDARD
BEGIN:DAYLIGHT
TZOFFSETFROM:-0500
TZOFFSETTO:-0400
TZNAME:EDT
DTSTART:20120311T070000
END:DAYLIGHT
BEGIN:STANDARD
TZOFFSETFROM:-0400
TZOFFSETTO:-0500
TZNAME:EST
DTSTART:20121104T060000
END:STANDARD
END:VTIMEZONE
BEGIN:VEVENT
DTSTART;TZID=America/New_York:20110518T183000
DTEND;TZID=America/New_York:20110518T213000
DTSTAMP:20260421T103328
CREATED:20110413T155256Z
LAST-MODIFIED:20110413T165224Z
UID:2508-1305743400-1305754200@oceandoctor.org
SUMMARY:Ocean Inspiration: A Tribute to Jacques Cousteau
DESCRIPTION:Jacques Cousteau’s 100th anniversary is an opportunity to come together and reflect on the future of Planet Ocean. Ocean Inspiration is a time to reconnect with our creative and intellectual capacity\, and together move forward to positively impact our future. \nExplorers\, dancers\, scientists\, artists\, musicians\, filmmakers\, family and friends will come together in this once in a lifetime event. Through spirited discussions and live performances\, the audience will be encouraged to create their own form of ocean advocacy.? May 18 & 20\, 2011:? New York\, NY / Washington\, DC \nOcean Inspiration: A tribute to Jacques Cousteau’s 100th anniversary is an occasion to celebrate\, recognize\, and reward the achievements of ocean advocacy in any and all its forms. \n\n?Celebrating the Oceans? Cocktail Reception & Fundraiser\n\nWednesday\, May 18\, 2011\n6:30-9:30pm\nThe Sea Grill\nRockefeller Center\n19 West 49th Street\nNew York\, NY 10020 \n\n\n Awards ceremony: Ocean advocacy awards ceremony hosted by David de Rothschild\n\n\nPremiere viewing: Excerpt from the new film ?My Father the Captain? by Jean-Michel Cousteau\n\n\nSustainable cuisine: Featuring top New York chef\n\n\nSilent auction: Unique adventures\, ocean art\, and more\n\n\nDance & music performances: Derek Stratton choreography and Henri ?Scars? Struck\n\n\nFilm screening: 100-second video tributes to Jacques Cousteau\n\n\nPresenting: Reefs at Risk Initiative\n\n\n\n?Looking to the Future? Public Forum\n\nFriday May 20\, 2011\n11:00am-2:00pm\nWorld Resources Institute\nWashington\, DC  \n\n\nFuture of the Oceans Panel: With leading explorers\, scientists\, and experts including Dr. Sylvia Earle and Dr. Carl Safina\n\n\nStories from Jacques Cousteau’s Journeys : Inside stories on Jacques Cousteau expeditions\n\n\nYou can find more?information about the full event at www.OceanInspiration.net or join the online conversation on Facebook. \nA portion of the proceeds from Ocean Inspiration will be designated for World Resources Institute’s Reefs at Risk Initiative.  World Resources Institute is joining forces with CauseCentric  Productions to create a micro-documentary for the Reefs at Risk  Initiative\, produced by C?line Cousteau. \nYou can also support Ocean Inspiration with a tax-deductible contribution. \nFor questions regarding the?Cocktail Celebration\, please email contact@oceaninspiration.net.
URL:https://oceandoctor.org/event/ocean-inspiration-a-tribute-to-jacques-cousteau/
LOCATION:The Sea Grill\, The Sea Grill\, Rockefeller Plaza\, 19 West 49th Street\, New York\, NY\, 10020\, United States
CATEGORIES:Featured
ATTACH;FMTTYPE=image/jpeg:https://oceandoctor.org/wp-content/uploads/2011/04/oceaninspiration2.jpg
END:VEVENT
BEGIN:VEVENT
DTSTART;TZID=America/New_York:20110327T133000
DTEND;TZID=America/New_York:20110327T153000
DTSTAMP:20260421T103328
CREATED:20110212T174140Z
LAST-MODIFIED:20110212T193857Z
UID:1932-1301232600-1301239800@oceandoctor.org
SUMMARY:Cuba: The Accidental Eden - Screening & Discussion at DC Environmental Film Festival
DESCRIPTION:CUBA: THE ACCIDENTAL EDEN (USA\, 2010\, 60 min.)\nCuba may have  been isolated politically and economically for the past 50 years\, but  its borders have remained open to wildlife for which Cuba’s undeveloped  islands are an irresistible draw. While many islands in the Caribbean  have poisoned or paved over their ecological riches on land and in the  sea in pursuit of a growing tourist industry\, Cuba’s wild landscapes  have remained virtually untouched\, creating a safe haven for rare and  intriguing indigenous animals\, as well as for hundreds of species of  migrating birds and marine creatures. Coral reefs have benefited\, too.  Independent research has shown that Cuba’s corals are much healthier  than others both in the Caribbean and around the world. Written and produced by Doug Schultz for PBS NATURE. \nDiscussion with David E. Guggenheim\,  who stars in the film\, follows screening. \n Ticket/Reservation Info: FREE. no reservations needed. \nNational Museum of Natural History\nBaird Auditorium\n10th St. & Constitution Ave.\, NW\n(Metro:  Smithsonian\, The Mall exit or Federal Triangle\, 12th St. exit. Blue and  Orange lines) (Metrobuses: 13A\, 13B\, 13F\, 13G\, 63\, 64\, A46\, A48\, D1\,  N3\, P1\, P2\, S2\, S4)\nAdditional details at DCenvironmentalfilmfest.org
URL:https://oceandoctor.org/event/cuba-the-accidental-eden-screening-discussion-at-dc-environmental-film-festival/
LOCATION:National Museum of Natural History\, Baird Auditorium\, 10th St. & Constitution Ave.\, NW \, Washington\, DC\, 20530\, United States
CATEGORIES:Featured,News & Announcements
ATTACH;FMTTYPE=image/png:https://oceandoctor.org/wp-content/uploads/2011/02/cuba-the-accidental-eden.png
END:VEVENT
BEGIN:VEVENT
DTSTART;VALUE=DATE:20110303
DTEND;VALUE=DATE:20110326
DTSTAMP:20260421T103328
CREATED:20100727T160231Z
LAST-MODIFIED:20121008T183835Z
UID:201-1299110400-1301097599@oceandoctor.org
SUMMARY:Join the "Ocean Doctor" on the Cape to Cape Adventure Aboard Silversea's Prince Albert II
DESCRIPTION:CAPE TO CAPE ADVENTURE \n Ushuaia to Cape Town\nMarch 3\, 2011 – 22 Days – Voyage 7106 \nTRACK the Expedition!\n \n  \nExpedition Highlights: \n \n\nFollow in the footsteps of great Antarctic explorers\nSee snow-covered mountains\, mighty glaciers and spectacular iceberg sculptures\nEncounter penguins: Magellanic\, rockhopper\, gentoo\, macaroni\, king\, Adelie\, and African (jackass)\nWatch for sea lions\, seals\, dolphins\, and whales\nIdentify seabirds including albatross\, shearwaters and petrels\nDiscover historic sites of the early explorers and the remains of whaling operations\nVisit the most remote inhabited archipelago in the world\nSavour world-renowned South African wines\n\n \n\n \n\n\n\n[iframe width=”425″ height=”350″ frameborder=”0″ scrolling=”no” marginheight=”0″ marginwidth=”0″ src=”http://maps.google.com/maps/ms?ie=UTF8&hl=en&msa=0&msid=209845443110630301642.0004892c7679aaad84ec8&ll=-34.885931\,-30.234375&spn=93.342939\,149.414063&z=2&output=embed”]\n\n\nView Silversea Expedition 2011 in a larger map\n\n\n\nExpedition Team: \nZodiac from the Silversea’s Prince Albert II \nExpedition Leader: Robin West\nAsst Expedition Leader: Jarda Versloot\nGeneral Naturalist: Daniil Elterman\nGeneral Naturalist: Chris Srigley\nMarine Biologist: Chris Cutler\nMarine Biologist: Robin Aiello\nGeologist: Juan Carlos Restrepo\nOrnithologist: JJ Ap’stegui\nBotanist: Hans-Peter Reinthaler*\nPhotographer: Richard Sidey \n*German-speaking lecturer \nDr. David E. Guggenheim\, Special Guest Lecturer\nDr. David E. Guggenheim is a marine scientist\, conservation policy specialist\, submarine pilot and ocean explorer. He is president of 1planet1ocean\, a project of The Ocean Foundation where he is a Senior Fellow and director of its Cuba Marine Research and Conservation Program. He is currently leading a major project to elevate collaboration in marine science and conservation among Cuba\, Mexico and the U.S. to a new level and leading the first-ever comprehensive research and conservation program in Cuba’s Gulf of Mexico region\, a joint effort with the University of Havana. Also known as the “Ocean Doctor” and host of “The Ocean Doctor” radio show and the “ExpeditionCasts” podcast series\, Dr. Guggenheim is currently engaged in a special expedition to all fifty U.S. states visiting schools and bringing special programs about ocean exploration and conservation to young students. So far he has traveled more than 35\,000 miles\, visited 13 states\, made 39 speeches and reached more than 10\,000 students in schools ranging from the northernmost community in North America\, Barrow\, Alaska\, to Macksville\, Kansas\, close to the geographic center of the lower 48 states\, to the southern tip of Florida. In 2007 he served as a scientific advisor to Greenpeace for its expedition to map deepwater corals in the Bering Sea where he piloted the first-ever manned submersible dives into the Bering Sea’s largest underwater canyons. Guggenheim played a lead role in building the recently-formed Gulf of Mexico Alliance\, a partnership among the U.S. Gulf states and 13 federal agencies and Mexico. Guggenheim is also working to introduce cutting-edge technologies for sustainable aquaculture practices to the Americas to reduce pressure on overfished wild fish stocks. Guggenheim previously served as Vice President at The Ocean Conservancy\, President & CEO of The Conservancy of Southwest Florida\, co-chair of the Everglades Coalition and president of the Friends of Channel Islands National Park. \nENTERTAINMENT SPOTLIGHT\nDavid O. Frazier – Joe Garry – Marty Henne\n~ Special Guest Entertainers to Illuminate our Days at Sea ~ \n\nLuxurious Accommodations Aboard the Prince Albert II \nTheatre veterans\, David Frazier and Joe Garry\, will offer a series of original cabaret lectures reflecting the voyage destination through historical characters. For our voyage they have developed special plays relating the stories of Winston Churchill’s time in South Africa\, Admiral Byrd and Ernest Shakleton’s exploration of the Falkland Islands\, and Napoleon’s exile on St. Helena. David and Joe will also share stories of musical theatre from their unique behind-the-scenes perspective. They have worked with such luminaries as Audrey Hepburn\, Sarah Vaughn\, Rosemary Clooney and Marvin Hamlish. Their award-winning television show ?Odysseys and Ovations? currently airs on PBS in the United States\, and highlights travel and the arts. \n \nSophisticated. Warm. Funny. Intelligent. Entertaining. These are just some of the words that have been used to describe a performance by pianist\, singer and raconteur Marty Henne. And what a performance it is. Marty shares not only well-known songs\, but little-known stories about the writers who wrote them. Marty has accumulated a wealth of first-hand anecdotes about the Gershwins\, Cole Porter\, Rodgers and Hart and other world-famous songwriters and celebrities of the twentieth century. An evening spent with Marty is one filled with stories\, smiles and\, of course\, great music! \n\n\nDay 1 – Ushuaia\, Argentina\nEmbark?Prince Albert II and meet some of your fellow explorers as you become acquainted with the luxurious amenities found onboard. This evening\, after settling in and setting sail\, you will be introduced to your Expedition Team. \nDay 2 – Cape Horn\, Chile\nThis morning we cruise past the rocky promontory of Cape Horn ? the southernmost point in South America and for many years an important navigational landmark. Its meridian point serves as a dividing line separating the Atlantic and Pacific Oceans. Approximately 49\,000 km? of this extreme southern region has been declared a UNESCO World Biosphere Reserve. Conditions permitting\, we will go ashore to explore this bleak and beautiful landscape at the end of the world\, and photograph the caretaker’s house set on the point surrounded by the last rocks of the American continent. \nDay 3 – At Sea\nGather in The Theatre to hear fascinating tales of adventure and to learn more about the region’s endemic wildlife and remarkable nature. Our knowledgeable Lecture Staff members are experts in a variety of scientific fields. Other onboard diversions include spa treatments\, a workout in the Fitness Centre\, and\, of course\, exquisite dining experiences. \nDay 4 – West Point Island\, Falkland Islands\n Saunders Island\, Falkland Islands\nWatch for Peale’s dolphins and the distinctive black and white markings of the Commerson’s dolphin as we approach small West Point Island. Upon landing by Zodiac\, we find photographic opportunities are everywhere as we walk across the rolling moorland. Our 1.25-mile hike takes us to Devil’s Nose\,?a rocky promontory?where we hope to encounter a colony of approximately 14\,500 pairs of black-browed albatross that nest side-by-side with feisty rockhopper and Magellanic penguins. Learn about the island’s unique vegetation including the rare Felton plant. After our hike\, we will enjoy tea and cookies at the settlement. The hospitable island owners\, Lily and Roddy Napier\, are always happy to answer your questions and share their stories. \nFollowing lunch\, the?Prince Albert II will anchor off Saunders Island ? the second largest offshore island within the Falkland Islands archipelago. We plan to land our Zodiacs at The Neck\, a narrow part of the island\, where we will begin our explorations\, hoping to encounter four different types of penguin species: king\, gentoo\, rockhopper and Magellanic. \nDay 5 – Stanley\, Falkland Islands\nStanley is the capital of the remote Falkland Islands\, and has a distinct British ambience. Stroll through the charming streets of this colourful little town\, lined with quaint cottages and a variety of traditional pubs. Visit the 19th-century Anglican cathedral and wander through the small local museum. Some lingering reminders of the 1986 Falklands War between Britain and Argentina may still be seen though the island has settled back to its quiet business of raising sheep. \nDays 6-7 – At Sea\nBinoculars and camera in hand\, head out on deck to watch for seabirds and marine mammals. Attend informative lectures that will prepare you for the upcoming ports-of-call and the adventures that lie ahead. Peruse an array of titles and topics in the well-stocked Library\, enjoy the finest cigars and cognacs at the Connoisseur’s Corner or indulge in any of the other special amenities offered aboard ship. \nDays 8-11 – South Georgia\nThis breathtaking destination of towering snow-covered mountains\, mighty glaciers\, and low-lying grasslands attracts an astounding concentration of wildlife: Southern fur seals\, southern elephant seals and a variety of albatross species including black-browed\, light-mantled sooty\, grey-headed and the spectacular wandering albatross\, plus thousands of king and macaroni penguins. \nSouth Georgia is also linked to the early Antarctic explorers. Captain James Cook first stepped ashore in 1775\, but perhaps more famous is Ernest Shackleton’s arrival in 1916 following the sinking of his ship\, theEndurance. Visit Shackleton’s grave and the whaling museum at Grytviken. \nHere are some of the places we may visit: \nCooper’s Bay \n\nAn unforgettable view of huge icebergs can be seen surrounding Cooper’s Bay as we approach.\nGo ashore by Zodiac to see numerous breeds of penguins\, such as macaronis and chinstraps\, on the rocks and waters surrounding the island.\n\nGold Harbour \n\nA large king penguin colony can be found between Weddell Glacier and Gold Harbour.\nSeals can be seen resting on ice floes and sunning on the beaches.\nIt is an unforgettable experience to cruise by Zodiac between the glaciers.\n\nGrytviken \n\nAn historic whaling station\, all that remain are the rusted hulls of long abandoned whalers.\nNow a museum\, guests can learn about past whaling techniques and view various exhibits on exploration and discovery.\nAt the burial site of the famous explorer Sir Ernest Shackleton\, we will toast the great explorer and his many accomplishments.\n\nSalisbury Plain \n\nA favourite breeding ground for king penguins\, it is amazing to see how they completely cover the beaches and hills.\n\n\nDays 12-15 – At Sea\nAs we cross the southern Atlantic\, leisurely days at sea are yours to enjoy. Participate in discussions and onboard activities led by the Expedition Team\, relax in one of the lounges with that book you’ve been meaning to read\, and meet up with new friends for cocktails. Enjoy a performance by one of our guest entertainers in the evening. Perhaps listen to a special tale about the Falklands\, or a recounting of Napoleon’s time in St. Helena. Before turning in for the night\, take a stroll on deck to take in the solitude of the vast sea and sky. \nDays 16-17 – Tristan Da Cunha\, UK\nWe will watch for whales in the surrounding waters as we approach the volcanic Tristan De Cunha island group. Recognised as the most remote inhabited archipelago in the world\, its closest neighbouring landmass is the island of St. Helena some 2\,430 km away. The main island is home to fewer than 300 hardy residents. Today we enjoy guided walks with the local inhabitants of the village while our onboard geologist will lead a walk to the 1961 Volcanic cone and lava flow. Learn how the islanders were evacuated and how it affected their lives.? Once at the top\, we will have a beautiful scenic view of the whole settlement ? a photo opportunity not to be missed. We will meet with some of the island children and hear what Tristan life is like through their eyes during our visit to St Mary’s School.? Our onboard ornithologist will point out birdlife\, hopefully including the Atlantic yellow-nosed albatross\, sooty albatross\, albatross\, Tristan thrush\, and Tristan wandering albatross ? a critically endangered species with fewer than 1\,500 breeding pairs left in the world. Tristan is also where 90% of the world’s northern rockhopper penguins come to breed. \nOur itinerary calls for one and a half days exploring this remote archipelago\, and (weather permitting) we hope to land on either the uninhabited Nightingale Islands or Inaccessible Island\, a protected wildlife reserve and World Heritage Site. You will see the most magnificent wildlife\, flora and fauna all unspoilt by people. All guests will receive a certificate verifying that they have indeed visited this extremely remote world destination. \nDays 18-21 – At Sea\nEnjoy a variety of onboard activities. Our days at sea are filled with educational lectures and interesting entertainment options. Attend a special performance by Marty Henne or a fascinating lecture by David Guggenheim. All accommodations feature an interactive television system allowing you to watch your choice of movies or documentary films and even recorded broadcasts from The Theatre in the comfort and privacy of your suite or stateroom. \nDays 22-23 – Cape Town\, South Africa\nBefore our arrival into Cape Town\, we hope to cruise past Cape of Good Hope to complete our epic Cape to Cape Adventure. Tonight we enjoy an evening at leisure in Cape Town. \nAfter breakfast on Friday\, March 25\, disembark the?Prince Albert II. \nExpedition highlights and wildlife listed here are possible experiences only and cannot be guaranteed. Your Expedition Leader and Captain will work together to ensure opportunities for adventure and exploration are the best possible\, taking into account the prevailing weather and wildlife activity. Expedition Team members as well as guest speakers and their lecture topics scheduled for this voyage are subject to change or cancellation without notice. \nPOST-CRUISE OPTIONS\nExtend your Silversea holiday with a post-cruise Silver Shore programme. From Cape Town\, choose from two exciting 5-night Land Adventures: \nCape Town & KrugerPark\nHighlights include the African (or Jackass) Penguin colony at Seal Island\, the infamous Robben Island prison\, and a three-day safari at the prestigious Sabi Sands where 4×4 vehicle take guests on a thrilling game drives in search of the Big Five: lion\, elephant\, rhino\, buffalo and leopard.?>>Read Full Description \nVictoria Falls& Rovos Rail\nExperience the best of Victoria Falls with a sunset cruise and by air aboard a scenic helicopter flight. A five-star Rovos Rail journey takes you by train through stunning landscapes to Pretoria for a tour of the Soweto Township and a visit to the Apartheid Museum. \n\n\n\n\nSilversea Expeditions on the Prince Albert II from Silversea on Vimeo.\n\n\n\n \nSilversea’s Expedition Ship\, the Prince Albert II
URL:https://oceandoctor.org/event/join-the-ocean-doctor-on-the-cape-to-cape-adventure-aboard-silverseas-prince-albert-ii/
LOCATION:M/V Prince Albert II\, South Georgia\, South Sandwich Islands
CATEGORIES:Cape to Cape Expedition,Featured,South Atlantic Ocean
END:VEVENT
BEGIN:VEVENT
DTSTART;TZID=America/New_York:20100326T200000
DTEND;TZID=America/New_York:20100326T213000
DTSTAMP:20260421T103328
CREATED:20100323T172037Z
LAST-MODIFIED:20110106T174134Z
UID:1213-1269633600-1269639000@oceandoctor.org
SUMMARY:Event: Discovering Our Humanity at the Bottom of the Sea
DESCRIPTION:Join "Ocean Doctor" David E. Guggenheim in Philadelphia on Friday\, March 26\, 2010 \nAt Philadelphia’s historic Congregation Rodeph Shalom synagogue\, the Dr. Bernard & Rose Susan Hirschhorn Behrend Lecture presents Dr.  David E. Guggenheim\, president of 1planet1ocean\, a project of The Ocean  Foundation. Dr. Guggenheim\, the “Ocean Doctor\,” an ocean explorer\, sub  pilot and conservationist\,will share his firsthand experiences from  Alaska’s Bering Sea to Cuba’s tropical depths\, providing a glimpse into a  world seldom seen and reflections on our own humanity from the unique  perspective beneath the sea. \n  \n Philadelphia native\, Dr. David E. Guggenheim is a marine scientist\, conservation policy specialist\, submarine pilot and ocean explorer. He is president of 1planet1ocean in Washington\, DC\, a project of The Ocean Foundation where he is a Senior Fellow and director of its Cuba Marine Research and Conservation Program. He is currently leading a major project to elevate collaboration in marine science and conservation among Cuba\, Mexico and the U.S. to a new level and leading the first-ever comprehensive research and conservation program in Cuba’s Gulf of Mexico region\, a joint effort with the University of Havana. \nPhiladelphia native\, Dr. David E. Guggenheim\, the "Ocean Doctor" \nAlso known as the ?Ocean Doctor? and host of the ExpeditionCasts podcast series\, Dr. Guggenheim is currently engaged in a special ?expedition? to all fifty U.S. states visiting schools and bringing special programs about ocean exploration and conservation to young students. So far he has traveled more than 35\,000 miles\, visited 13 states\, made 39 speeches and reached more than 10\,000 students in schools ranging from the northernmost community in North America\, Barrow\, Alaska\, to Macksville\, Kansas\, close to the geographic center of the lower 48 states\, to the southern tip of Florida. \nIn 2007 he served as a scientific advisor to Greenpeace for its expedition to map deepwater corals in the Bering Sea where he piloted the first-ever manned submersible dives into the Bering Sea’s largest underwater canyons. Guggenheim played a lead role in building the recently-formed Gulf of Mexico Alliance\, a partnership among the U.S. Gulf states and 13 federal agencies and Mexico. Guggenheim is also working to introduce cutting-edge technologies for sustainable aquaculture practices to the Americas to reduce pressure on overfished wild fish stocks. \nGuggenheim previously served as Vice President at The Ocean Conservancy\, President & CEO of The Conservancy of Southwest Florida\, co-chair of the Everglades Coalition and president of the Friends of Channel Islands National Park. Guggenheim holds a Ph.D. in Environmental Science and Public Policy from George Mason University in Virginia\, a Master’s in Aquatic and Population Biology from University of California\, Santa? Barbara\, and a Master’s in Regional Science and Bachelor’s in Environmental Studies from the University of Pennsylvania. \nCongregation Rodeph Shalom \nRodeph Shalom is located at 615 North Broad Street\, Philadelphia\, Pennsylvania. Dr. Guggenheim’s lecture is included in the Friday evening service which begins at 8pm\, March 26\, 2010. Admission is free to all.
URL:https://oceandoctor.org/event/event-discovering-our-humanity-at-the-bottom-of-the-sea/
LOCATION:Rodeph Shalom\, 615 North Broad Street\, Philadelphia\, PA\, 19123\, United States
CATEGORIES:Featured
END:VEVENT
BEGIN:VEVENT
DTSTART;VALUE=DATE:20100113
DTEND;VALUE=DATE:20100114
DTSTAMP:20260421T103328
CREATED:20091223T021944Z
LAST-MODIFIED:20110106T175516Z
UID:1205-1263340800-1263427140@oceandoctor.org
SUMMARY:Wear Blue for Oceans! January 13\, 2010
DESCRIPTION:Wear BLUE on January 13\, 2010 and show the Obama Administration you support national policy that protects\, maintains and restores our ocean\, coasts and Great Lakes ecosystems. And come and join us at one of the planned events in San Francisco\, New Orleans\, Los Angeles\, or Washington DC! Visit WearBlueForOceans.org for more information and spread the word!  \nRead and comment on the Obama Administration’s Ocean Policy Task Force. Check out the Ocean Policy Task Force’s Marine Spatial Planning Interim Report and submit comments in support of a Marine Spatial Planning Framework that will provide comprehensive\, proactive planning\, sustainable economic development\, and long-term environmental conservation. \nNeed blue fashion ideas? Check out StealThisDress.com for some cool blue ideas!
URL:https://oceandoctor.org/event/wear-blue-for-oceans-january-13-2010/
CATEGORIES:Featured
END:VEVENT
END:VCALENDAR